BEGIN:VCALENDAR
VERSION:2.0
PRODID:-//Victorian Engineering Senate - ECPv6.15.20//NONSGML v1.0//EN
CALSCALE:GREGORIAN
METHOD:PUBLISH
X-ORIGINAL-URL:https://engineeringsenate.org.au
X-WR-CALDESC:Events for Victorian Engineering Senate
REFRESH-INTERVAL;VALUE=DURATION:PT1H
X-Robots-Tag:noindex
X-PUBLISHED-TTL:PT1H
BEGIN:VTIMEZONE
TZID:Australia/Melbourne
BEGIN:STANDARD
TZOFFSETFROM:+1100
TZOFFSETTO:+1000
TZNAME:AEST
DTSTART:20200404T160000
END:STANDARD
BEGIN:DAYLIGHT
TZOFFSETFROM:+1000
TZOFFSETTO:+1100
TZNAME:AEDT
DTSTART:20201003T160000
END:DAYLIGHT
BEGIN:STANDARD
TZOFFSETFROM:+1100
TZOFFSETTO:+1000
TZNAME:AEST
DTSTART:20210403T160000
END:STANDARD
BEGIN:DAYLIGHT
TZOFFSETFROM:+1000
TZOFFSETTO:+1100
TZNAME:AEDT
DTSTART:20211002T160000
END:DAYLIGHT
BEGIN:STANDARD
TZOFFSETFROM:+1100
TZOFFSETTO:+1000
TZNAME:AEST
DTSTART:20220402T160000
END:STANDARD
BEGIN:DAYLIGHT
TZOFFSETFROM:+1000
TZOFFSETTO:+1100
TZNAME:AEDT
DTSTART:20221001T160000
END:DAYLIGHT
END:VTIMEZONE
BEGIN:VEVENT
DTSTART;TZID=Australia/Melbourne:20210507T100000
DTEND;TZID=Australia/Melbourne:20210507T120000
DTSTAMP:20260421T033759
CREATED:20210428T020332Z
LAST-MODIFIED:20210428T020332Z
UID:7130-1620381600-1620388800@engineeringsenate.org.au
SUMMARY:Victorian Engineering Senate Meeting Zoom
DESCRIPTION:
URL:https://engineeringsenate.org.au/event/victorian-engineering-senate-meeting-zoom/
ATTACH;FMTTYPE=image/jpeg:https://engineeringsenate.org.au/wp-content/uploads/2021/04/victorian-engineering-senate-meeting-zoom_7130-1.jpg
END:VEVENT
END:VCALENDAR